BEGIN:VCALENDAR
VERSION:2.0
PRODID:-//La Combe - ECPv6.15.12.2//NONSGML v1.0//EN
CALSCALE:GREGORIAN
METHOD:PUBLISH
X-WR-CALNAME:La Combe
X-ORIGINAL-URL:https://lacombe.ch
X-WR-CALDESC:Évènements pour La Combe
REFRESH-INTERVAL;VALUE=DURATION:PT1H
X-Robots-Tag:noindex
X-PUBLISHED-TTL:PT1H
BEGIN:VTIMEZONE
TZID:Europe/Zurich
BEGIN:DAYLIGHT
TZOFFSETFROM:+0100
TZOFFSETTO:+0200
TZNAME:CEST
DTSTART:20240331T010000
END:DAYLIGHT
BEGIN:STANDARD
TZOFFSETFROM:+0200
TZOFFSETTO:+0100
TZNAME:CET
DTSTART:20241027T010000
END:STANDARD
BEGIN:DAYLIGHT
TZOFFSETFROM:+0100
TZOFFSETTO:+0200
TZNAME:CEST
DTSTART:20250330T010000
END:DAYLIGHT
BEGIN:STANDARD
TZOFFSETFROM:+0200
TZOFFSETTO:+0100
TZNAME:CET
DTSTART:20251026T010000
END:STANDARD
BEGIN:DAYLIGHT
TZOFFSETFROM:+0100
TZOFFSETTO:+0200
TZNAME:CEST
DTSTART:20260329T010000
END:DAYLIGHT
BEGIN:STANDARD
TZOFFSETFROM:+0200
TZOFFSETTO:+0100
TZNAME:CET
DTSTART:20261025T010000
END:STANDARD
END:VTIMEZONE
BEGIN:VEVENT
DTSTART;TZID=Europe/Zurich:20250802T133000
DTEND;TZID=Europe/Zurich:20250802T173000
DTSTAMP:20260423T005102
CREATED:20250220T112604Z
LAST-MODIFIED:20250220T112604Z
UID:1800-1754141400-1754155800@lacombe.ch
SUMMARY:Création de décoration pour enfants
DESCRIPTION:
URL:https://lacombe.ch/evenement/creation-de-decoration-pour-enfants-7/
LOCATION:Mall central\, Rue de la Morâche 6\, Nyon\, 1260\, Suisse
END:VEVENT
BEGIN:VEVENT
DTSTART;TZID=Europe/Zurich:20250809T133000
DTEND;TZID=Europe/Zurich:20250809T173000
DTSTAMP:20260423T005102
CREATED:20250220T111250Z
LAST-MODIFIED:20250220T111250Z
UID:1770-1754746200-1754760600@lacombe.ch
SUMMARY:Atelier construction LEGO
DESCRIPTION:
URL:https://lacombe.ch/evenement/atelier-construction-lego-12/
LOCATION:Mall central\, Rue de la Morâche 6\, Nyon\, 1260\, Suisse
END:VEVENT
BEGIN:VEVENT
DTSTART;TZID=Europe/Zurich:20250813T133000
DTEND;TZID=Europe/Zurich:20250813T173000
DTSTAMP:20260423T005102
CREATED:20250220T112643Z
LAST-MODIFIED:20250220T112643Z
UID:1802-1755091800-1755106200@lacombe.ch
SUMMARY:Création de décoration pour enfants
DESCRIPTION:
URL:https://lacombe.ch/evenement/creation-de-decoration-pour-enfants-8/
LOCATION:Mall central\, Rue de la Morâche 6\, Nyon\, 1260\, Suisse
END:VEVENT
BEGIN:VEVENT
DTSTART;TZID=Europe/Zurich:20250816T133000
DTEND;TZID=Europe/Zurich:20250816T173000
DTSTAMP:20260423T005102
CREATED:20250220T113642Z
LAST-MODIFIED:20250220T113642Z
UID:1822-1755351000-1755365400@lacombe.ch
SUMMARY:Atelier cuisine biscuits et cupcake
DESCRIPTION:
URL:https://lacombe.ch/evenement/atelier-cuisine-biscuits-et-cupcake-2/
LOCATION:Mall central\, Rue de la Morâche 6\, Nyon\, 1260\, Suisse
END:VEVENT
END:VCALENDAR