BEGIN:VCALENDAR
VERSION:2.0
PRODID:-//La Combe - ECPv6.15.12.2//NONSGML v1.0//EN
CALSCALE:GREGORIAN
METHOD:PUBLISH
X-WR-CALNAME:La Combe
X-ORIGINAL-URL:https://lacombe.ch
X-WR-CALDESC:Évènements pour La Combe
REFRESH-INTERVAL;VALUE=DURATION:PT1H
X-Robots-Tag:noindex
X-PUBLISHED-TTL:PT1H
BEGIN:VTIMEZONE
TZID:Europe/Zurich
BEGIN:DAYLIGHT
TZOFFSETFROM:+0100
TZOFFSETTO:+0200
TZNAME:CEST
DTSTART:20240331T010000
END:DAYLIGHT
BEGIN:STANDARD
TZOFFSETFROM:+0200
TZOFFSETTO:+0100
TZNAME:CET
DTSTART:20241027T010000
END:STANDARD
BEGIN:DAYLIGHT
TZOFFSETFROM:+0100
TZOFFSETTO:+0200
TZNAME:CEST
DTSTART:20250330T010000
END:DAYLIGHT
BEGIN:STANDARD
TZOFFSETFROM:+0200
TZOFFSETTO:+0100
TZNAME:CET
DTSTART:20251026T010000
END:STANDARD
BEGIN:DAYLIGHT
TZOFFSETFROM:+0100
TZOFFSETTO:+0200
TZNAME:CEST
DTSTART:20260329T010000
END:DAYLIGHT
BEGIN:STANDARD
TZOFFSETFROM:+0200
TZOFFSETTO:+0100
TZNAME:CET
DTSTART:20261025T010000
END:STANDARD
END:VTIMEZONE
BEGIN:VEVENT
DTSTART;TZID=Europe/Zurich:20250503T133000
DTEND;TZID=Europe/Zurich:20250503T173000
DTSTAMP:20260422T190857
CREATED:20250220T103645Z
LAST-MODIFIED:20250220T103645Z
UID:1735-1746279000-1746293400@lacombe.ch
SUMMARY:Atelier créatif pour enfant
DESCRIPTION:
URL:https://lacombe.ch/evenement/atelier-creatif-pour-enfant-3/
LOCATION:Mall central\, Rue de la Morâche 6\, Nyon\, 1260\, Suisse
END:VEVENT
BEGIN:VEVENT
DTSTART;TZID=Europe/Zurich:20250521T133000
DTEND;TZID=Europe/Zurich:20250521T173000
DTSTAMP:20260422T190857
CREATED:20250220T110747Z
LAST-MODIFIED:20250220T110747Z
UID:1760-1747834200-1747848600@lacombe.ch
SUMMARY:Atelier construction LEGO
DESCRIPTION:
URL:https://lacombe.ch/evenement/atelier-construction-lego-7/
LOCATION:Mall central\, Rue de la Morâche 6\, Nyon\, 1260\, Suisse
END:VEVENT
BEGIN:VEVENT
DTSTART;TZID=Europe/Zurich:20250524T133000
DTEND;TZID=Europe/Zurich:20250524T173000
DTSTAMP:20260422T190857
CREATED:20250220T110850Z
LAST-MODIFIED:20250220T110850Z
UID:1762-1748093400-1748107800@lacombe.ch
SUMMARY:Atelier construction LEGO
DESCRIPTION:
URL:https://lacombe.ch/evenement/atelier-construction-lego-8/
LOCATION:Mall central\, Rue de la Morâche 6\, Nyon\, 1260\, Suisse
END:VEVENT
BEGIN:VEVENT
DTSTART;TZID=Europe/Zurich:20250528T133000
DTEND;TZID=Europe/Zurich:20250528T173000
DTSTAMP:20260422T190857
CREATED:20250220T112357Z
LAST-MODIFIED:20250220T112357Z
UID:1794-1748439000-1748453400@lacombe.ch
SUMMARY:Création de décoration pour enfants
DESCRIPTION:
URL:https://lacombe.ch/evenement/creation-de-decoration-pour-enfants-4/
LOCATION:Mall central\, Rue de la Morâche 6\, Nyon\, 1260\, Suisse
END:VEVENT
BEGIN:VEVENT
DTSTART;TZID=Europe/Zurich:20250531T133000
DTEND;TZID=Europe/Zurich:20250531T173000
DTSTAMP:20260422T190857
CREATED:20250220T103710Z
LAST-MODIFIED:20250220T103710Z
UID:1737-1748698200-1748712600@lacombe.ch
SUMMARY:Atelier créatif pour enfant
DESCRIPTION:
URL:https://lacombe.ch/evenement/atelier-creatif-pour-enfant-4/
LOCATION:Mall central\, Rue de la Morâche 6\, Nyon\, 1260\, Suisse
END:VEVENT
END:VCALENDAR