BEGIN:VCALENDAR
VERSION:2.0
PRODID:-//La Combe - ECPv6.15.12.2//NONSGML v1.0//EN
CALSCALE:GREGORIAN
METHOD:PUBLISH
X-WR-CALNAME:La Combe
X-ORIGINAL-URL:https://lacombe.ch
X-WR-CALDESC:Évènements pour La Combe
REFRESH-INTERVAL;VALUE=DURATION:PT1H
X-Robots-Tag:noindex
X-PUBLISHED-TTL:PT1H
BEGIN:VTIMEZONE
TZID:Europe/Zurich
BEGIN:DAYLIGHT
TZOFFSETFROM:+0100
TZOFFSETTO:+0200
TZNAME:CEST
DTSTART:20240331T010000
END:DAYLIGHT
BEGIN:STANDARD
TZOFFSETFROM:+0200
TZOFFSETTO:+0100
TZNAME:CET
DTSTART:20241027T010000
END:STANDARD
BEGIN:DAYLIGHT
TZOFFSETFROM:+0100
TZOFFSETTO:+0200
TZNAME:CEST
DTSTART:20250330T010000
END:DAYLIGHT
BEGIN:STANDARD
TZOFFSETFROM:+0200
TZOFFSETTO:+0100
TZNAME:CET
DTSTART:20251026T010000
END:STANDARD
BEGIN:DAYLIGHT
TZOFFSETFROM:+0100
TZOFFSETTO:+0200
TZNAME:CEST
DTSTART:20260329T010000
END:DAYLIGHT
BEGIN:STANDARD
TZOFFSETFROM:+0200
TZOFFSETTO:+0100
TZNAME:CET
DTSTART:20261025T010000
END:STANDARD
END:VTIMEZONE
BEGIN:VEVENT
DTSTART;TZID=Europe/Zurich:20250416T133000
DTEND;TZID=Europe/Zurich:20250416T173000
DTSTAMP:20260422T172403
CREATED:20250220T110714Z
LAST-MODIFIED:20250220T110714Z
UID:1758-1744810200-1744824600@lacombe.ch
SUMMARY:Atelier construction LEGO
DESCRIPTION:
URL:https://lacombe.ch/evenement/atelier-construction-lego-6/
LOCATION:Mall central\, Rue de la Morâche 6\, Nyon\, 1260\, Suisse
END:VEVENT
BEGIN:VEVENT
DTSTART;TZID=Europe/Zurich:20250426T133000
DTEND;TZID=Europe/Zurich:20250426T173000
DTSTAMP:20260422T172403
CREATED:20250220T113001Z
LAST-MODIFIED:20250220T113001Z
UID:1809-1745674200-1745688600@lacombe.ch
SUMMARY:Atelier maquillage
DESCRIPTION:
URL:https://lacombe.ch/evenement/atelier-maquillage-2/
LOCATION:Mall central\, Rue de la Morâche 6\, Nyon\, 1260\, Suisse
END:VEVENT
BEGIN:VEVENT
DTSTART;TZID=Europe/Zurich:20250430T133000
DTEND;TZID=Europe/Zurich:20250430T173000
DTSTAMP:20260422T172403
CREATED:20250220T112239Z
LAST-MODIFIED:20250220T112324Z
UID:1792-1746019800-1746034200@lacombe.ch
SUMMARY:Création de décoration pour enfants
DESCRIPTION:
URL:https://lacombe.ch/evenement/creation-de-decoration-pour-enfants-3/
LOCATION:Mall central\, Rue de la Morâche 6\, Nyon\, 1260\, Suisse
END:VEVENT
END:VCALENDAR