BEGIN:VCALENDAR
VERSION:2.0
PRODID:-//La Combe - ECPv6.15.12.2//NONSGML v1.0//EN
CALSCALE:GREGORIAN
METHOD:PUBLISH
X-WR-CALNAME:La Combe
X-ORIGINAL-URL:https://lacombe.ch
X-WR-CALDESC:Évènements pour La Combe
REFRESH-INTERVAL;VALUE=DURATION:PT1H
X-Robots-Tag:noindex
X-PUBLISHED-TTL:PT1H
BEGIN:VTIMEZONE
TZID:Europe/Zurich
BEGIN:DAYLIGHT
TZOFFSETFROM:+0100
TZOFFSETTO:+0200
TZNAME:CEST
DTSTART:20240331T010000
END:DAYLIGHT
BEGIN:STANDARD
TZOFFSETFROM:+0200
TZOFFSETTO:+0100
TZNAME:CET
DTSTART:20241027T010000
END:STANDARD
BEGIN:DAYLIGHT
TZOFFSETFROM:+0100
TZOFFSETTO:+0200
TZNAME:CEST
DTSTART:20250330T010000
END:DAYLIGHT
BEGIN:STANDARD
TZOFFSETFROM:+0200
TZOFFSETTO:+0100
TZNAME:CET
DTSTART:20251026T010000
END:STANDARD
BEGIN:DAYLIGHT
TZOFFSETFROM:+0100
TZOFFSETTO:+0200
TZNAME:CEST
DTSTART:20260329T010000
END:DAYLIGHT
BEGIN:STANDARD
TZOFFSETFROM:+0200
TZOFFSETTO:+0100
TZNAME:CET
DTSTART:20261025T010000
END:STANDARD
END:VTIMEZONE
BEGIN:VEVENT
DTSTART;TZID=Europe/Zurich:20250305T133000
DTEND;TZID=Europe/Zurich:20250305T173000
DTSTAMP:20260422T155415
CREATED:20250220T103544Z
LAST-MODIFIED:20250220T103544Z
UID:1732-1741181400-1741195800@lacombe.ch
SUMMARY:Atelier créatif pour enfant
DESCRIPTION:
URL:https://lacombe.ch/evenement/atelier-creatif-pour-enfant-2/
LOCATION:Mall central\, Rue de la Morâche 6\, Nyon\, 1260\, Suisse
END:VEVENT
BEGIN:VEVENT
DTSTART;TZID=Europe/Zurich:20250308T133000
DTEND;TZID=Europe/Zurich:20250308T173000
DTSTAMP:20260422T155415
CREATED:20250220T110451Z
LAST-MODIFIED:20250220T110451Z
UID:1753-1741440600-1741455000@lacombe.ch
SUMMARY:Atelier construction LEGO
DESCRIPTION:
URL:https://lacombe.ch/evenement/atelier-construction-lego-4/
LOCATION:Mall central\, Rue de la Morâche 6\, Nyon\, 1260\, Suisse
END:VEVENT
BEGIN:VEVENT
DTSTART;TZID=Europe/Zurich:20250312T133000
DTEND;TZID=Europe/Zurich:20250312T173000
DTSTAMP:20260422T155415
CREATED:20250220T112101Z
LAST-MODIFIED:20250220T112101Z
UID:1787-1741786200-1741800600@lacombe.ch
SUMMARY:Création de décoration pour enfants
DESCRIPTION:
URL:https://lacombe.ch/evenement/creation-de-decoration-pour-enfants/
LOCATION:Mall central\, Rue de la Morâche 6\, Nyon\, 1260\, Suisse
END:VEVENT
BEGIN:VEVENT
DTSTART;TZID=Europe/Zurich:20250315T133000
DTEND;TZID=Europe/Zurich:20250315T173000
DTSTAMP:20260422T155415
CREATED:20250220T110625Z
LAST-MODIFIED:20250220T110625Z
UID:1756-1742045400-1742059800@lacombe.ch
SUMMARY:Atelier construction LEGO
DESCRIPTION:
URL:https://lacombe.ch/evenement/atelier-construction-lego-5/
LOCATION:Mall central\, Rue de la Morâche 6\, Nyon\, 1260\, Suisse
END:VEVENT
END:VCALENDAR