BEGIN:VCALENDAR
VERSION:2.0
PRODID:-//La Combe - ECPv6.15.12.2//NONSGML v1.0//EN
CALSCALE:GREGORIAN
METHOD:PUBLISH
X-ORIGINAL-URL:https://lacombe.ch
X-WR-CALDESC:Évènements pour La Combe
REFRESH-INTERVAL;VALUE=DURATION:PT1H
X-Robots-Tag:noindex
X-PUBLISHED-TTL:PT1H
BEGIN:VTIMEZONE
TZID:Europe/Zurich
BEGIN:DAYLIGHT
TZOFFSETFROM:+0100
TZOFFSETTO:+0200
TZNAME:CEST
DTSTART:20230326T010000
END:DAYLIGHT
BEGIN:STANDARD
TZOFFSETFROM:+0200
TZOFFSETTO:+0100
TZNAME:CET
DTSTART:20231029T010000
END:STANDARD
BEGIN:DAYLIGHT
TZOFFSETFROM:+0100
TZOFFSETTO:+0200
TZNAME:CEST
DTSTART:20240331T010000
END:DAYLIGHT
BEGIN:STANDARD
TZOFFSETFROM:+0200
TZOFFSETTO:+0100
TZNAME:CET
DTSTART:20241027T010000
END:STANDARD
BEGIN:DAYLIGHT
TZOFFSETFROM:+0100
TZOFFSETTO:+0200
TZNAME:CEST
DTSTART:20250330T010000
END:DAYLIGHT
BEGIN:STANDARD
TZOFFSETFROM:+0200
TZOFFSETTO:+0100
TZNAME:CET
DTSTART:20251026T010000
END:STANDARD
END:VTIMEZONE
BEGIN:VEVENT
DTSTART;TZID=Europe/Zurich:20241204T133000
DTEND;TZID=Europe/Zurich:20241204T173000
DTSTAMP:20260422T110909
CREATED:20241128T145202Z
LAST-MODIFIED:20241128T145214Z
UID:1684-1733319000-1733333400@lacombe.ch
SUMMARY:Atelier créatif pour enfants
DESCRIPTION:
URL:https://lacombe.ch/evenement/atelier-creatif-pour-enfants-2/
LOCATION:Mall central\, Rue de la Morâche 6\, Nyon\, 1260\, Suisse
END:VEVENT
BEGIN:VEVENT
DTSTART;TZID=Europe/Zurich:20241207T133000
DTEND;TZID=Europe/Zurich:20241207T173000
DTSTAMP:20260422T110909
CREATED:20241128T145455Z
LAST-MODIFIED:20241128T145455Z
UID:1686-1733578200-1733592600@lacombe.ch
SUMMARY:Vente solidaire
DESCRIPTION:
URL:https://lacombe.ch/evenement/vente-solidaire/
LOCATION:Mall central\, Rue de la Morâche 6\, Nyon\, 1260\, Suisse
END:VEVENT
BEGIN:VEVENT
DTSTART;TZID=Europe/Zurich:20241209T130000
DTEND;TZID=Europe/Zurich:20241209T170000
DTSTAMP:20260422T110909
CREATED:20241128T145554Z
LAST-MODIFIED:20241128T145554Z
UID:1689-1733749200-1733763600@lacombe.ch
SUMMARY:Stand tête de choco et pains d'épices
DESCRIPTION:
URL:https://lacombe.ch/evenement/stand-tete-de-choco-et-pains-depices/
LOCATION:Mall central\, Rue de la Morâche 6\, Nyon\, 1260\, Suisse
END:VEVENT
BEGIN:VEVENT
DTSTART;TZID=Europe/Zurich:20241211T130000
DTEND;TZID=Europe/Zurich:20241211T170000
DTSTAMP:20260422T110909
CREATED:20241128T150148Z
LAST-MODIFIED:20241128T152206Z
UID:1696-1733922000-1733936400@lacombe.ch
SUMMARY:Atelier créatif pour enfants
DESCRIPTION:
URL:https://lacombe.ch/evenement/atelier-creatif-pour-enfants-2-2/
LOCATION:Mall central\, Rue de la Morâche 6\, Nyon\, 1260\, Suisse
END:VEVENT
BEGIN:VEVENT
DTSTART;TZID=Europe/Zurich:20241214T130000
DTEND;TZID=Europe/Zurich:20241214T170000
DTSTAMP:20260422T110909
CREATED:20241128T145957Z
LAST-MODIFIED:20241128T150104Z
UID:1693-1734181200-1734195600@lacombe.ch
SUMMARY:Contes ludiques
DESCRIPTION:
URL:https://lacombe.ch/evenement/contes-ludiques/
LOCATION:Mall central\, Rue de la Morâche 6\, Nyon\, 1260\, Suisse
END:VEVENT
BEGIN:VEVENT
DTSTART;TZID=Europe/Zurich:20241218T133000
DTEND;TZID=Europe/Zurich:20241218T173000
DTSTAMP:20260422T110909
CREATED:20241128T150417Z
LAST-MODIFIED:20241128T150417Z
UID:1698-1734528600-1734543000@lacombe.ch
SUMMARY:Atelier biscuits de Noël
DESCRIPTION:
URL:https://lacombe.ch/evenement/atelier-biscuits-de-noel/
LOCATION:Mall central\, Rue de la Morâche 6\, Nyon\, 1260\, Suisse
END:VEVENT
BEGIN:VEVENT
DTSTART;TZID=Europe/Zurich:20241219T080000
DTEND;TZID=Europe/Zurich:20241219T200000
DTSTAMP:20260422T110909
CREATED:20241128T150523Z
LAST-MODIFIED:20241128T150523Z
UID:1700-1734595200-1734638400@lacombe.ch
SUMMARY:Nocturne exceptionnelle jusqu'à 20h
DESCRIPTION:
URL:https://lacombe.ch/evenement/nocturne-exceptionnelle-jusqua-20h/
LOCATION:Mall central\, Rue de la Morâche 6\, Nyon\, 1260\, Suisse
END:VEVENT
BEGIN:VEVENT
DTSTART;TZID=Europe/Zurich:20241220T080000
DTEND;TZID=Europe/Zurich:20241220T200000
DTSTAMP:20260422T110909
CREATED:20241128T151216Z
LAST-MODIFIED:20241128T151216Z
UID:1708-1734681600-1734724800@lacombe.ch
SUMMARY:Nocturne exceptionnelle jusqu'à 20h
DESCRIPTION:
URL:https://lacombe.ch/evenement/nocturne-exceptionnelle-jusqua-20h-2/
END:VEVENT
BEGIN:VEVENT
DTSTART;TZID=Europe/Zurich:20241220T140000
DTEND;TZID=Europe/Zurich:20241220T170000
DTSTAMP:20260422T110909
CREATED:20241128T150645Z
LAST-MODIFIED:20241128T150812Z
UID:1702-1734703200-1734714000@lacombe.ch
SUMMARY:Contes ludiques
DESCRIPTION:
URL:https://lacombe.ch/evenement/contes-ludiques-2/
LOCATION:Mall central\, Rue de la Morâche 6\, Nyon\, 1260\, Suisse
END:VEVENT
BEGIN:VEVENT
DTSTART;TZID=Europe/Zurich:20241220T150000
DTEND;TZID=Europe/Zurich:20241220T180000
DTSTAMP:20260422T110909
CREATED:20241128T150907Z
LAST-MODIFIED:20241128T150907Z
UID:1704-1734706800-1734717600@lacombe.ch
SUMMARY:Venue du Père Noël
DESCRIPTION:
URL:https://lacombe.ch/evenement/venue-du-pere-noel/
LOCATION:Mall central\, Rue de la Morâche 6\, Nyon\, 1260\, Suisse
END:VEVENT
BEGIN:VEVENT
DTSTART;TZID=Europe/Zurich:20241220T173000
DTEND;TZID=Europe/Zurich:20241220T193000
DTSTAMP:20260422T110909
CREATED:20241128T151140Z
LAST-MODIFIED:20241128T151140Z
UID:1706-1734715800-1734723000@lacombe.ch
SUMMARY:Apéritif offert par les commerçants et jazz live
DESCRIPTION:
URL:https://lacombe.ch/evenement/aperitif-offert-par-les-commercants-et-jazz-live/
LOCATION:Mall central\, Rue de la Morâche 6\, Nyon\, 1260\, Suisse
END:VEVENT
BEGIN:VEVENT
DTSTART;TZID=Europe/Zurich:20241221T120000
DTEND;TZID=Europe/Zurich:20241221T180000
DTSTAMP:20260422T110909
CREATED:20241128T151439Z
LAST-MODIFIED:20241128T151439Z
UID:1710-1734782400-1734804000@lacombe.ch
SUMMARY:Atelier maquillage de Noël
DESCRIPTION:
URL:https://lacombe.ch/evenement/atelier-maquillage-de-noel/
LOCATION:Mall central\, Rue de la Morâche 6\, Nyon\, 1260\, Suisse
END:VEVENT
BEGIN:VEVENT
DTSTART;TZID=Europe/Zurich:20241221T140000
DTEND;TZID=Europe/Zurich:20241221T170000
DTSTAMP:20260422T110909
CREATED:20241128T151620Z
LAST-MODIFIED:20241128T151620Z
UID:1712-1734789600-1734800400@lacombe.ch
SUMMARY:Emballages cadeaux
DESCRIPTION:
URL:https://lacombe.ch/evenement/emballages-cadeaux/
LOCATION:Mall central\, Rue de la Morâche 6\, Nyon\, 1260\, Suisse
END:VEVENT
BEGIN:VEVENT
DTSTART;TZID=Europe/Zurich:20241221T140000
DTEND;TZID=Europe/Zurich:20241221T170000
DTSTAMP:20260422T110909
CREATED:20241128T151717Z
LAST-MODIFIED:20241128T151717Z
UID:1714-1734789600-1734800400@lacombe.ch
SUMMARY:Venue du Père Noël
DESCRIPTION:
URL:https://lacombe.ch/evenement/venue-du-pere-noel-2/
LOCATION:Mall central\, Rue de la Morâche 6\, Nyon\, 1260\, Suisse
END:VEVENT
BEGIN:VEVENT
DTSTART;TZID=Europe/Zurich:20241221T163000
DTEND;TZID=Europe/Zurich:20241221T170000
DTSTAMP:20260422T110909
CREATED:20241128T151817Z
LAST-MODIFIED:20241128T151817Z
UID:1716-1734798600-1734800400@lacombe.ch
SUMMARY:Chorale de Noël
DESCRIPTION:
URL:https://lacombe.ch/evenement/chorale-de-noel/
LOCATION:Mall central\, Rue de la Morâche 6\, Nyon\, 1260\, Suisse
END:VEVENT
BEGIN:VEVENT
DTSTART;TZID=Europe/Zurich:20241223T110000
DTEND;TZID=Europe/Zurich:20241223T140000
DTSTAMP:20260422T110909
CREATED:20241128T152122Z
LAST-MODIFIED:20241128T152122Z
UID:1722-1734951600-1734962400@lacombe.ch
SUMMARY:Venue du Père Noël
DESCRIPTION:
URL:https://lacombe.ch/evenement/venue-du-pere-noel-3/
LOCATION:Mall central\, Rue de la Morâche 6\, Nyon\, 1260\, Suisse
END:VEVENT
BEGIN:VEVENT
DTSTART;TZID=Europe/Zurich:20241223T120000
DTEND;TZID=Europe/Zurich:20241223T180000
DTSTAMP:20260422T110909
CREATED:20241128T151934Z
LAST-MODIFIED:20241128T151934Z
UID:1718-1734955200-1734976800@lacombe.ch
SUMMARY:Atelier maquillage de Noël
DESCRIPTION:
URL:https://lacombe.ch/evenement/atelier-maquillage-de-noel-2/
LOCATION:Mall central\, Rue de la Morâche 6\, Nyon\, 1260\, Suisse
END:VEVENT
BEGIN:VEVENT
DTSTART;TZID=Europe/Zurich:20241223T140000
DTEND;TZID=Europe/Zurich:20241223T170000
DTSTAMP:20260422T110909
CREATED:20241128T152037Z
LAST-MODIFIED:20241202T094125Z
UID:1720-1734962400-1734973200@lacombe.ch
SUMMARY:Emballages cadeaux
DESCRIPTION:
URL:https://lacombe.ch/evenement/contes-ludiques-3/
LOCATION:Mall central\, Rue de la Morâche 6\, Nyon\, 1260\, Suisse
END:VEVENT
BEGIN:VEVENT
DTSTART;TZID=Europe/Zurich:20241231T130000
DTEND;TZID=Europe/Zurich:20241231T170000
DTSTAMP:20260422T110909
CREATED:20241128T145633Z
LAST-MODIFIED:20241128T145633Z
UID:1691-1735650000-1735664400@lacombe.ch
SUMMARY:Stand tête de Choco et Pains d'épices
DESCRIPTION:
URL:https://lacombe.ch/evenement/stand-tete-de-choco-et-pains-depices-2/
LOCATION:Mall central\, Rue de la Morâche 6\, Nyon\, 1260\, Suisse
END:VEVENT
END:VCALENDAR