BEGIN:VCALENDAR
VERSION:2.0
PRODID:-//La Combe - ECPv6.15.12.2//NONSGML v1.0//EN
CALSCALE:GREGORIAN
METHOD:PUBLISH
X-WR-CALNAME:La Combe
X-ORIGINAL-URL:https://lacombe.ch
X-WR-CALDESC:Évènements pour La Combe
REFRESH-INTERVAL;VALUE=DURATION:PT1H
X-Robots-Tag:noindex
X-PUBLISHED-TTL:PT1H
BEGIN:VTIMEZONE
TZID:Europe/Zurich
BEGIN:DAYLIGHT
TZOFFSETFROM:+0100
TZOFFSETTO:+0200
TZNAME:CEST
DTSTART:20230326T010000
END:DAYLIGHT
BEGIN:STANDARD
TZOFFSETFROM:+0200
TZOFFSETTO:+0100
TZNAME:CET
DTSTART:20231029T010000
END:STANDARD
BEGIN:DAYLIGHT
TZOFFSETFROM:+0100
TZOFFSETTO:+0200
TZNAME:CEST
DTSTART:20240331T010000
END:DAYLIGHT
BEGIN:STANDARD
TZOFFSETFROM:+0200
TZOFFSETTO:+0100
TZNAME:CET
DTSTART:20241027T010000
END:STANDARD
BEGIN:DAYLIGHT
TZOFFSETFROM:+0100
TZOFFSETTO:+0200
TZNAME:CEST
DTSTART:20250330T010000
END:DAYLIGHT
BEGIN:STANDARD
TZOFFSETFROM:+0200
TZOFFSETTO:+0100
TZNAME:CET
DTSTART:20251026T010000
END:STANDARD
END:VTIMEZONE
BEGIN:VEVENT
DTSTART;TZID=Europe/Zurich:20240904T133000
DTEND;TZID=Europe/Zurich:20240904T173000
DTSTAMP:20260422T092143
CREATED:20240827T142303Z
LAST-MODIFIED:20240827T142303Z
UID:1639-1725456600-1725471000@lacombe.ch
SUMMARY:Atelier créatif - Confection décoration d'été
DESCRIPTION:Cerises Mauves\n\nAtelier créatif – Confection décoration d’été\n\n13h30 -17h30\n\nEmplacement : Mall central\n\nhttps://www.cerisesmauves.ch/\n\nhttps://www.instagram.com/cerisesmauves.ch/
URL:https://lacombe.ch/evenement/atelier-creatif-confection-decoration-dete-2/
LOCATION:Mall central\, Rue de la Morâche 6\, Nyon\, 1260\, Suisse
END:VEVENT
BEGIN:VEVENT
DTSTART;TZID=Europe/Zurich:20240907T133000
DTEND;TZID=Europe/Zurich:20240907T173000
DTSTAMP:20260422T092143
CREATED:20240827T142512Z
LAST-MODIFIED:20240906T142251Z
UID:1641-1725715800-1725730200@lacombe.ch
SUMMARY:Atelier lunettes de soleil rigolotes
DESCRIPTION:Cerises Mauves Atelier créatif – Confection décoration d’été\n\nAtelier lunettes de soleil rigolotes\n\n13h30 -17h30\n\nEmplacement : Mall central\n\nhttps://www.cerisesmauves.ch/ \n\nhttps://www.instagram.com/cerisesmauves.ch/
URL:https://lacombe.ch/evenement/cours-dart-floral-pour-enfants-2/
LOCATION:Mall central\, Rue de la Morâche 6\, Nyon\, 1260\, Suisse
END:VEVENT
BEGIN:VEVENT
DTSTART;TZID=Europe/Zurich:20240914T130000
DTEND;TZID=Europe/Zurich:20240914T170000
DTSTAMP:20260422T092143
CREATED:20240827T142655Z
LAST-MODIFIED:20240827T142655Z
UID:1643-1726318800-1726333200@lacombe.ch
SUMMARY:Animation Espace Game
DESCRIPTION:Fabrique Des Rêves\n\nAnimation Espace Game\n\n13h -17h\n\nEmplacement : Mall central\n\nhttps://www.lafabriquedesreves.org/
URL:https://lacombe.ch/evenement/animation-espace-game-2/
LOCATION:Mall central\, Rue de la Morâche 6\, Nyon\, 1260\, Suisse
END:VEVENT
BEGIN:VEVENT
DTSTART;TZID=Europe/Zurich:20240921T133000
DTEND;TZID=Europe/Zurich:20240921T173000
DTSTAMP:20260422T092143
CREATED:20240827T142819Z
LAST-MODIFIED:20240827T142819Z
UID:1645-1726925400-1726939800@lacombe.ch
SUMMARY:Atelier LEGO - construction estivale
DESCRIPTION:Bricks 4 kidz\n\nAtelier LEGO – construction estivale\n\n13h30 -17h30\n\nEmplacement : Mall central\n\nhttps://www.bricks4kidz.ch \n\nhttps://www.instagram.com/bricks4kidz_geneve/?hl=fr
URL:https://lacombe.ch/evenement/atelier-lego-construction-estivale/
LOCATION:Mall central\, Rue de la Morâche 6\, Nyon\, 1260\, Suisse
END:VEVENT
BEGIN:VEVENT
DTSTART;TZID=Europe/Zurich:20240925T133000
DTEND;TZID=Europe/Zurich:20240925T173000
DTSTAMP:20260422T092143
CREATED:20240827T143008Z
LAST-MODIFIED:20240827T143008Z
UID:1647-1727271000-1727285400@lacombe.ch
SUMMARY:Atelier créatif - Confection décoration d'été
DESCRIPTION:Cerises Mauves\n\nAtelier créatif – Confection décoration d’été\n\n13h30 -17h30\n\nEmplacement : Mall central\n\nhttps://www.cerisesmauves.ch/\n\nhttps://www.instagram.com/cerisesmauves.ch/
URL:https://lacombe.ch/evenement/atelier-creatif-confection-decoration-dete-3/
LOCATION:Mall central\, Rue de la Morâche 6\, Nyon\, 1260\, Suisse
END:VEVENT
END:VCALENDAR