BEGIN:VCALENDAR
VERSION:2.0
PRODID:-//La Combe - ECPv6.15.12.2//NONSGML v1.0//EN
CALSCALE:GREGORIAN
METHOD:PUBLISH
X-WR-CALNAME:La Combe
X-ORIGINAL-URL:https://lacombe.ch
X-WR-CALDESC:Évènements pour La Combe
REFRESH-INTERVAL;VALUE=DURATION:PT1H
X-Robots-Tag:noindex
X-PUBLISHED-TTL:PT1H
BEGIN:VTIMEZONE
TZID:Europe/Zurich
BEGIN:DAYLIGHT
TZOFFSETFROM:+0100
TZOFFSETTO:+0200
TZNAME:CEST
DTSTART:20230326T010000
END:DAYLIGHT
BEGIN:STANDARD
TZOFFSETFROM:+0200
TZOFFSETTO:+0100
TZNAME:CET
DTSTART:20231029T010000
END:STANDARD
BEGIN:DAYLIGHT
TZOFFSETFROM:+0100
TZOFFSETTO:+0200
TZNAME:CEST
DTSTART:20240331T010000
END:DAYLIGHT
BEGIN:STANDARD
TZOFFSETFROM:+0200
TZOFFSETTO:+0100
TZNAME:CET
DTSTART:20241027T010000
END:STANDARD
BEGIN:DAYLIGHT
TZOFFSETFROM:+0100
TZOFFSETTO:+0200
TZNAME:CEST
DTSTART:20250330T010000
END:DAYLIGHT
BEGIN:STANDARD
TZOFFSETFROM:+0200
TZOFFSETTO:+0100
TZNAME:CET
DTSTART:20251026T010000
END:STANDARD
END:VTIMEZONE
BEGIN:VEVENT
DTSTART;TZID=Europe/Zurich:20240703T140000
DTEND;TZID=Europe/Zurich:20240703T180000
DTSTAMP:20260422T123311
CREATED:20240531T092038Z
LAST-MODIFIED:20240531T092038Z
UID:1560-1720015200-1720029600@lacombe.ch
SUMMARY:Atelier construction LEGO
DESCRIPTION:Bricks 4 kidz\n\nAtelier construction LEGO\n\n14h -18h\n\nEmplacement : Mall central\n\nhttps://www.bricks4kidz.ch \n\nhttps://www.instagram.com/bricks4kidz_geneve/?hl=fr
URL:https://lacombe.ch/evenement/atelier-construction-lego-2/
LOCATION:Mall central\, Rue de la Morâche 6\, Nyon\, 1260\, Suisse
END:VEVENT
BEGIN:VEVENT
DTSTART;TZID=Europe/Zurich:20240710T133000
DTEND;TZID=Europe/Zurich:20240710T170000
DTSTAMP:20260422T123311
CREATED:20240715T123917Z
LAST-MODIFIED:20240715T123917Z
UID:1620-1720618200-1720630800@lacombe.ch
SUMMARY:Atelier créatif - Personnalisation de tote bag
DESCRIPTION:Le Temps Des Rêves\n\nAtelier créatif – Personnalisation de tote bag\n\n13h30 -17h30\n\nEmplacement : Mall central\n\nhttps://letempsdesreves.com/ \n\nhttps://www.instagram.com/letempsdesreves/?hl=fr
URL:https://lacombe.ch/evenement/atelier-creatif-personnalisation-de-tote-bag/
LOCATION:Mall central\, Rue de la Morâche 6\, Nyon\, 1260\, Suisse
END:VEVENT
BEGIN:VEVENT
DTSTART;TZID=Europe/Zurich:20240720T133000
DTEND;TZID=Europe/Zurich:20240720T173000
DTSTAMP:20260422T123311
CREATED:20240715T124044Z
LAST-MODIFIED:20240715T124044Z
UID:1622-1721482200-1721496600@lacombe.ch
SUMMARY:Réalité virtuelle
DESCRIPTION:Second World –  Réalité virtuelle\n\n13h30 -17h30\n\nEmplacement : Mall central\n\nhttps://secondworld.ch
URL:https://lacombe.ch/evenement/realite-virtuelle-2/
LOCATION:Mall central\, Rue de la Morâche 6\, Nyon\, 1260\, Suisse
END:VEVENT
BEGIN:VEVENT
DTSTART;VALUE=DATE:20240722
DTEND;VALUE=DATE:20240728
DTSTAMP:20260422T123311
CREATED:20240715T124456Z
LAST-MODIFIED:20240715T124456Z
UID:1624-1721606400-1722124799@lacombe.ch
SUMMARY:Stand Mood Collection
DESCRIPTION:Stand Mood Collection\n\nBijouterie itinérante\n\nhttps://www.yourmood.net/
URL:https://lacombe.ch/evenement/stand-mood-collection/
LOCATION:Mall central\, Rue de la Morâche 6\, Nyon\, 1260\, Suisse
END:VEVENT
BEGIN:VEVENT
DTSTART;TZID=Europe/Zurich:20240731T130000
DTEND;TZID=Europe/Zurich:20240731T170000
DTSTAMP:20260422T123311
CREATED:20240715T124554Z
LAST-MODIFIED:20240715T124554Z
UID:1627-1722430800-1722445200@lacombe.ch
SUMMARY:Atelier construction LEGO
DESCRIPTION:Bricks 4 kidz\n\nAtelier construction LEGO\n\n14h -18h\n\nEmplacement : Mall central\n\nhttps://www.bricks4kidz.ch \n\nhttps://www.instagram.com/bricks4kidz_geneve/?hl=fr
URL:https://lacombe.ch/evenement/atelier-construction-lego-3/
LOCATION:Mall central\, Rue de la Morâche 6\, Nyon\, 1260\, Suisse
END:VEVENT
END:VCALENDAR