BEGIN:VCALENDAR
VERSION:2.0
PRODID:-//La Combe - ECPv6.15.12.2//NONSGML v1.0//EN
CALSCALE:GREGORIAN
METHOD:PUBLISH
X-WR-CALNAME:La Combe
X-ORIGINAL-URL:https://lacombe.ch
X-WR-CALDESC:Évènements pour La Combe
REFRESH-INTERVAL;VALUE=DURATION:PT1H
X-Robots-Tag:noindex
X-PUBLISHED-TTL:PT1H
BEGIN:VTIMEZONE
TZID:Europe/Zurich
BEGIN:DAYLIGHT
TZOFFSETFROM:+0100
TZOFFSETTO:+0200
TZNAME:CEST
DTSTART:20230326T010000
END:DAYLIGHT
BEGIN:STANDARD
TZOFFSETFROM:+0200
TZOFFSETTO:+0100
TZNAME:CET
DTSTART:20231029T010000
END:STANDARD
BEGIN:DAYLIGHT
TZOFFSETFROM:+0100
TZOFFSETTO:+0200
TZNAME:CEST
DTSTART:20240331T010000
END:DAYLIGHT
BEGIN:STANDARD
TZOFFSETFROM:+0200
TZOFFSETTO:+0100
TZNAME:CET
DTSTART:20241027T010000
END:STANDARD
BEGIN:DAYLIGHT
TZOFFSETFROM:+0100
TZOFFSETTO:+0200
TZNAME:CEST
DTSTART:20250330T010000
END:DAYLIGHT
BEGIN:STANDARD
TZOFFSETFROM:+0200
TZOFFSETTO:+0100
TZNAME:CET
DTSTART:20251026T010000
END:STANDARD
END:VTIMEZONE
BEGIN:VEVENT
DTSTART;TZID=Europe/Zurich:20240504T133000
DTEND;TZID=Europe/Zurich:20240504T173000
DTSTAMP:20260422T154919
CREATED:20240311T145346Z
LAST-MODIFIED:20240311T145346Z
UID:1495-1714829400-1714843800@lacombe.ch
SUMMARY:Réalité virtuelle
DESCRIPTION:Second World \n\nRéalité virtuelle \n\n13h30 -17h30 \n\nEmplacement : Mall central \n\nhttps://secondworld.ch
URL:https://lacombe.ch/evenement/realite-virtuelle/
LOCATION:Mall central\, Rue de la Morâche 6\, Nyon\, 1260\, Suisse
END:VEVENT
BEGIN:VEVENT
DTSTART;TZID=Europe/Zurich:20240508T140000
DTEND;TZID=Europe/Zurich:20240508T180000
DTSTAMP:20260422T154919
CREATED:20240311T145521Z
LAST-MODIFIED:20240311T145521Z
UID:1498-1715176800-1715191200@lacombe.ch
SUMMARY:Atelier cuisine - cupcakes du printemps
DESCRIPTION:Royaume Mélazic\n\nAtelier cuisine – cupcakes du printemps\n\n14h -18h\n\nEmplacement : Mall central\n\nhttps://melazic.com/cupcakes-co/\n\nhttps://www.instagram.com/royaumemelazic/?hl=fr
URL:https://lacombe.ch/evenement/atelier-cuisine-cupcakes-du-printemps-2/
LOCATION:Mall central\, Rue de la Morâche 6\, Nyon\, 1260\, Suisse
END:VEVENT
BEGIN:VEVENT
DTSTART;TZID=Europe/Zurich:20240515T140000
DTEND;TZID=Europe/Zurich:20240515T170000
DTSTAMP:20260422T154919
CREATED:20240506T153023Z
LAST-MODIFIED:20240508T132730Z
UID:1518-1715781600-1715792400@lacombe.ch
SUMMARY:Atelier cuisine pour enfant
DESCRIPTION:Slow Mobile Atelier cuisine pour enfant\n\n14h -17h00 (14h-15h15 et 15h45-17h)\n\nEmplacement : Atelier cuisine pour enfant\n\nwww.slowmobile.ch
URL:https://lacombe.ch/evenement/atelier-cuisine-pour-enfant/
LOCATION:Mall central\, Rue de la Morâche 6\, Nyon\, 1260\, Suisse
END:VEVENT
BEGIN:VEVENT
DTSTART;TZID=Europe/Zurich:20240518T103000
DTEND;TZID=Europe/Zurich:20240518T170000
DTSTAMP:20260422T154919
CREATED:20240506T153151Z
LAST-MODIFIED:20240508T132827Z
UID:1522-1716028200-1716051600@lacombe.ch
SUMMARY:Atelier cuisine pour enfant
DESCRIPTION:Slow Mobile Atelier cuisine pour enfant\n\natelier de 10h45 à 12h\, puis de 14h à 17h (14h-15h15 et 15h45-17h)\n\nEmplacement : Atelier cuisine pour enfant\n\nwww.slowmobile.ch
URL:https://lacombe.ch/evenement/atelier-cuisine-pour-enfant-2/
LOCATION:Mall central\, Rue de la Morâche 6\, Nyon\, 1260\, Suisse
END:VEVENT
BEGIN:VEVENT
DTSTART;TZID=Europe/Zurich:20240522T133000
DTEND;TZID=Europe/Zurich:20240522T173000
DTSTAMP:20260422T154919
CREATED:20240506T153312Z
LAST-MODIFIED:20240506T153312Z
UID:1524-1716384600-1716399000@lacombe.ch
SUMMARY:Atelier créatif - Personnalisation de petits pots fleurs
DESCRIPTION:Le temps des rêves Atelier créatif – Personnalisation de petits pots fleurs\n\n13h30 -17h30\n\nEmplacement : Mall central\n\nhttps://letempsdesreves.com/ \n\nhttps://www.instagram.com/letempsdesreves/?hl=fr
URL:https://lacombe.ch/evenement/atelier-creatif-personnalisation-de-petits-pots-fleurs/
LOCATION:Mall central\, Rue de la Morâche 6\, Nyon\, 1260\, Suisse
END:VEVENT
BEGIN:VEVENT
DTSTART;TZID=Europe/Zurich:20240529T140000
DTEND;TZID=Europe/Zurich:20240529T180000
DTSTAMP:20260422T154919
CREATED:20240506T153418Z
LAST-MODIFIED:20240506T153418Z
UID:1526-1716991200-1717005600@lacombe.ch
SUMMARY:Atelier construction LEGO
DESCRIPTION:Bricks 4 kidz Atelier construction LEGO\n\n14h -18h ¨\n\nEmplacement : Mall central\n\nhttps://www.bricks4kidz.ch \n\nhttps://www.instagram.com/bricks4kidz_geneve/?hl=fr
URL:https://lacombe.ch/evenement/atelier-construction-lego/
LOCATION:Mall central\, Rue de la Morâche 6\, Nyon\, 1260\, Suisse
END:VEVENT
END:VCALENDAR